BEGIN:VCALENDAR
VERSION:2.0
PRODID:-//hacksw/handcal//NONSGML v1.0//EN
CALSCALE:GREGORIAN
BEGIN:VEVENT
DESCRIPTION: 
DTEND:19700822T193329Z
DTSTART:19700822T193329Z
LOCATION:
SUMMARY:Выход нового студийного альбома Slipknot
URL;VALUE=URI:
DTSTAMP:20260420T030214Z
UID:69e56d06767a5
END:VEVENT
END:VCALENDAR