BEGIN:VCALENDAR
VERSION:2.0
PRODID:-//hacksw/handcal//NONSGML v1.0//EN
CALSCALE:GREGORIAN
BEGIN:VEVENT
DESCRIPTION: 
DTEND:19700822T192344Z
DTSTART:19700822T192344Z
LOCATION:
SUMMARY:91-я церемония вручения премии «Оскар»
URL;VALUE=URI:
DTSTAMP:20260422T083429Z
UID:69e85de55c965
END:VEVENT
END:VCALENDAR